BEGIN:VCALENDAR
VERSION:2.0
PRODID:-//eventon.com NONSGML v1.0//EN
CALSCALE:GREGORIAN
METHOD:PUBLISH
BEGIN:VEVENT
UID:69ebc2add74dc
DTSTAMP:20260424T192117Z
DTSTART:20230204T110000Z
DTEND:20230204T140000Z
LOCATION:Alte Pinakothek Barer Straße 27
SUMMARY:Familienworkshop: Alte Meister in Bewegung – Sonne\,  Mond und Kerzenschein
DESCRIPTION:SA 04.02.2023 | 11:00 – 14:00 und 14:00 – 17:00 Familienwor
 kshop: Alte Meister in Bewegung – Sonne\,  Mond und Kerzenschein Für Fam
 ilien mit Kindern ab 6 Jahren In den Gemälden der Alten Pinakothek begegne
 n uns die verschiedensten Lichtquellen: die aufgehende Sonne\,  Mondenschei
 n\,  Sternenleuchten und flackernde Kerzen. Wir erkunden die unterschiedlic
 hen[..]\nhttps://kitz-magazin.de/Veranstaltungen/familienworkshop-alte-meis
 ter-in-bewegung-sonne-mond-und-kerzenschein/
URL:https://kitz-magazin.de/Veranstaltungen/familienworkshop-alte-meister-in-bewegung-sonne-mond-und-kerzenschein/
END:VEVENT
END:VCALENDAR