BEGIN:VCALENDAR
VERSION:2.0
PRODID:-//eventon.com NONSGML v1.0//EN
CALSCALE:GREGORIAN
METHOD:PUBLISH
BEGIN:VEVENT
UID:69e97b0f0fd70
DTSTAMP:20260423T015111Z
DTSTART:20230221T100000Z
DTEND:20230221T130000Z
LOCATION:Feierwerk Funkstation Margarete-Schütte-Lihotzky-Straße 36
SUMMARY:Programmieren mit Scratch in der Feierwerk Funkstation
DESCRIPTION:Di.\,  21.02 und Mi.\,  22.02.\,  10.00 bis 13.00 Uhr Programmi
 eren mit Scratch in der Feierwerk Funkstation Für Kinder von 8-12 Jahren C
 omicfiguren zum Leben erwecken und eigene kleine Spielchen bauen funktionie
 rt mit der Software „Scratch“ in nur wenigen Schritten und macht vor al
 lem denjenigen Spaß\,  die schon immer mal einfaches[..]\nhttps://kitz-mag
 azin.de/Veranstaltungen/programmieren-mit-scratch-in-der-feierwerk-funkstat
 ion/
URL:https://kitz-magazin.de/Veranstaltungen/programmieren-mit-scratch-in-der-feierwerk-funkstation/
END:VEVENT
END:VCALENDAR