BEGIN:VCALENDAR
VERSION:2.0
PRODID:-//eventon.com NONSGML v1.0//EN
CALSCALE:GREGORIAN
METHOD:PUBLISH
BEGIN:VEVENT
UID:69ed8ef946fa2
DTSTAMP:20260426T040513Z
DTSTART:20230211T153000Z
DTEND:20230211T235000Z
LOCATION:Friedenskirche Dachau Herzog-Albrecht-Straße 19
SUMMARY:Kleinkunstbühne Leierkasten: "Vom kleinen Maulwurf\,  der wissen wollte\,  wer ihm auf den Kopf gemacht hat"
DESCRIPTION:Sa.\,  11.02.2023\,  15:30 Uhr &#8222;Vom kleinen Maulwurf\,  d
 er wissen wollte\,  wer ihm auf den Kopf gemacht hat&#8220; Figurentheater 
 Maren Kaun Für Kinder ab 4 Jahren Oh nein! Es ist überhaupt nicht in Ordn
 ung\,  sein Geschäft auf anderer\,  zumal kleinerer Leute Kopf zu machen. 
 Auch ein Maulwurf ist schließlich jemand. Eine[..]\nhttps://kitz-magazin.d
 e/Veranstaltungen/kleinkunstbuehne-leierkasten-vom-kleinen-maulwurf-der-wis
 sen-wollte-wer-ihm-auf-den-kopf-gemacht-hat/
URL:https://kitz-magazin.de/Veranstaltungen/kleinkunstbuehne-leierkasten-vom-kleinen-maulwurf-der-wissen-wollte-wer-ihm-auf-den-kopf-gemacht-hat/
END:VEVENT
END:VCALENDAR