BEGIN:VCALENDAR
VERSION:2.0
PRODID:-//eventon.com NONSGML v1.0//EN
CALSCALE:GREGORIAN
METHOD:PUBLISH
BEGIN:VEVENT
UID:69eb471303e59
DTSTAMP:20260424T103355Z
DTSTART:20230226T143000Z
DTEND:20230226T235000Z
LOCATION:Alte Utting Lagerhausstr. 15
SUMMARY:Kasperls Spuikastl  auf der Alten Utting
DESCRIPTION:Sonntag\,  26. Februar 2023 Kasperls Spuikastl auf der Alten Ut
 ting Für Kinder von 3 bis 4 Jahren 14:30 Uhr: Kasperl und das Kuchenmonste
 r – Bayrisches Kasperlstückl\,  in dem der Teufel ein Kuchenmonster ersc
 hafft\,  um an den Guglhupf der Großmutter zu gelangen. Aber das läuft ni
 cht ganz so\,  wie er sich[..]\nhttps://kitz-magazin.de/Veranstaltungen/kas
 perls-spuikastl-auf-der-alten-utting/
URL:https://kitz-magazin.de/Veranstaltungen/kasperls-spuikastl-auf-der-alten-utting/
END:VEVENT
END:VCALENDAR