BEGIN:VCALENDAR
VERSION:2.0
PRODID:-//eventon.com NONSGML v1.0//EN
CALSCALE:GREGORIAN
METHOD:PUBLISH
BEGIN:VEVENT
UID:69ed83ae69adf
DTSTAMP:20260426T031702Z
DTSTART:20230421T094500Z
DTEND:20230421T123600Z
LOCATION:Kunsthalle
SUMMARY:FLOWERS FOREVER Blumen in Kunst und Kultur - Kunsthalle München
DESCRIPTION:03. März\,  21. April und 16. Juni jeweils um 9:45 Uhr FLOWERS
  FOREVER Blumen in Kunst und Kultur &#8211; Kunsthalle München Mütter und
  Väter mit Kindern bis 1 Jahr Kunst mit Baby Eine Stunde raus aus dem Allt
 agstrott und rein ins Museum: babygerechte Führungen duch Flowers Forever.
  Blumen in Kunst[..]\nhttps://kitz-magazin.de/Veranstaltungen/flowers-forev
 er-blumen-in-kunst-und-kultur-kunsthalle-muenchen/var/ri-1.l-L1
URL:https://kitz-magazin.de/Veranstaltungen/flowers-forever-blumen-in-kunst-und-kultur-kunsthalle-muenchen/var/ri-1.l-L1
END:VEVENT
END:VCALENDAR