BEGIN:VCALENDAR
VERSION:2.0
PRODID:-//eventon.com NONSGML v1.0//EN
CALSCALE:GREGORIAN
METHOD:PUBLISH
BEGIN:VEVENT
UID:69e79702bea00
DTSTAMP:20260421T152554Z
DTSTART:20230402T120000Z
DTEND:20230402T160000Z
LOCATION:LEO 61 Leopoldstraße 61
SUMMARY:LEOs Sonntagszeit Ostern in der LEO 61
DESCRIPTION:So.\,  2. April 2023\,  14:00 bis 18:00 Uhr LEOs Sonntagszeit O
 stern in der LEO 61  Für Kinder von 5 bis 12 Jahre Wir feiern ein Osterfe
 st! Gestaltet Osternester\,  begebt Euch auf Schokoladensuche und testet ve
 rschiedene Techniken\,  um Eier zu färben. Einstieg in das Programm ist je
 derzeit möglich. Ort: LEO 61\, [..]\nhttps://kitz-magazin.de/Veranstaltung
 en/leos-sonntagszeit-ostern-in-der-leo-61/
URL:https://kitz-magazin.de/Veranstaltungen/leos-sonntagszeit-ostern-in-der-leo-61/
END:VEVENT
END:VCALENDAR