BEGIN:VCALENDAR
VERSION:2.0
PRODID:-//eventon.com NONSGML v1.0//EN
CALSCALE:GREGORIAN
METHOD:PUBLISH
BEGIN:VEVENT
UID:69ed424d75c8c
DTSTAMP:20260425T223805Z
DTSTART:20230430T130000Z
DTEND:20230430T150000Z
LOCATION:Münchner Stadtmuseum St.-Jakobs-Platz 1
SUMMARY:Familienworkshop "Kind sein früher - Kind sein heute: Auf Zeitreise mit Frida und Paul" im Münchner Stadtmuseum
DESCRIPTION:Sonntag\,  30.4.2023 · 15.00 bis 17.00 Uhr Familienworkshop &#
 8222;Kind sein früher &#8211; Kind sein heute: Auf Zeitreise mit Frida und
  Paul&#8220; im Münchner Stadtmuseum Für Kinder ab 5 Jahren mit begleiten
 den Erwachsenen Wir lernen Frida und Paul kennen und machen uns mit ihnen a
 uf zur Zeitreise durch Münchens Vergangenheit. Wie[..]\nhttps://kitz-magaz
 in.de/Veranstaltungen/familienworkshop-kind-sein-frueher-kind-sein-heute-au
 f-zeitreise-mit-frida-und-paul-im-muenchner-stadtmuseum-2/
URL:https://kitz-magazin.de/Veranstaltungen/familienworkshop-kind-sein-frueher-kind-sein-heute-auf-zeitreise-mit-frida-und-paul-im-muenchner-stadtmuseum-2/
END:VEVENT
END:VCALENDAR