BEGIN:VCALENDAR
VERSION:2.0
PRODID:-//eventon.com NONSGML v1.0//EN
CALSCALE:GREGORIAN
METHOD:PUBLISH
BEGIN:VEVENT
UID:69e7f274ccf46
DTSTAMP:20260421T215604Z
DTSTART:20230619T203000Z
DTEND:20230619T214500Z
LOCATION:
SUMMARY:Zahngesundheit von Babys und Kindern - Ein Vortrag der Beratungsstelle für Natürliche Geburt und Eltern-Sein e.V.
DESCRIPTION:Zahngesundheit von Babys und Kindern &#8211; Ein Vortrag der Be
 ratungsstelle für Natürliche Geburt und Eltern-Sein e.V. Für Eltern Die 
 Zahnentwicklung ist ein wichtiger Meilenstein in der Entwicklung von Babys 
 und Kinder. Eltern freuen sich über den ersten Zahn\,  begleiten den Zahnd
 urchbruch und beim Zahnwechsel\,  überraschen ihre Kinder mit der Zahnfee.
 [..]\nhttps://kitz-magazin.de/Veranstaltungen/zahngesundheit-von-babys-und-
 kindern-ein-vortrag-der-beratungsstelle-fuer-natuerliche-geburt-und-eltern-
 sein-e-v/
URL:https://kitz-magazin.de/Veranstaltungen/zahngesundheit-von-babys-und-kindern-ein-vortrag-der-beratungsstelle-fuer-natuerliche-geburt-und-eltern-sein-e-v/
END:VEVENT
END:VCALENDAR