BEGIN:VCALENDAR
VERSION:2.0
PRODID:-//eventon.com NONSGML v1.0//EN
CALSCALE:GREGORIAN
METHOD:PUBLISH
BEGIN:VEVENT
UID:69ecfda61130b
DTSTAMP:20260425T174510Z
DTSTART:20230620T193000Z
DTEND:20230620T235000Z
LOCATION:Deutsches Theater München Betriebs-GmbH Schwanthalerstraße 13
SUMMARY:"Die unendliche Geschichte" nach dem Weltbestseller von Michael Ende im Deutschen Theater München
DESCRIPTION:20.–25. Juni 2023 &#8222;Die unendliche Geschichte&#8220; nac
 h dem Weltbestseller von Michael Ende im Deutschen Theater München Für al
 le ab 12 Jahre Eine große\,  fantastische Reise\,  ein philosophisches Ged
 ankenspiel und ein Weltendrama: Michael Endes &#8222;Die unendliche Geschic
 hte&#8220; eröffnete für ganze Generationen junger Lesefans einen neuen B
 lick auf die Welt. Die gefeierte[..]\nhttps://kitz-magazin.de/Veranstaltung
 en/die-unendliche-geschichte-nach-dem-weltbestseller-von-michael-ende-im-de
 utschen-theater-muenchen/
URL:https://kitz-magazin.de/Veranstaltungen/die-unendliche-geschichte-nach-dem-weltbestseller-von-michael-ende-im-deutschen-theater-muenchen/
END:VEVENT
END:VCALENDAR