BEGIN:VCALENDAR
VERSION:2.0
PRODID:-//eventon.com NONSGML v1.0//EN
CALSCALE:GREGORIAN
METHOD:PUBLISH
BEGIN:VEVENT
UID:69e73c5e6f4ca
DTSTAMP:20260421T085910Z
DTSTART:20230617T140000Z
DTEND:20230617T160000Z
LOCATION:Seidlvilla Nikolaiplatz 1b
SUMMARY:Offener Treff für Alleinerziehende und ihre Kinder
DESCRIPTION:Samstag\,  17.6. und 15.7.\,  14.00 – 16.00 Uhr Offener Treff
  für Alleinerziehende und ihre Kinder Für Alleinerziehende Erfahrungen au
 stauschen\,  andere Alleinerziehende kennenlernen und mit den Kindern gemei
 nsam den Nachmittag verbringen. Monatliches offenes Angebot bei Getränken\
 ,  Obst und Gebäck mit professioneller Leitung. Kosten: 4 Euro / Termin Oh
 ne Anmeldung Weitere Infos[..]\nhttps://kitz-magazin.de/Veranstaltungen/off
 ener-treff-fuer-alleinerziehende-und-ihre-kinder/
URL:https://kitz-magazin.de/Veranstaltungen/offener-treff-fuer-alleinerziehende-und-ihre-kinder/
END:VEVENT
END:VCALENDAR