BEGIN:VCALENDAR
VERSION:2.0
PRODID:-//eventon.com NONSGML v1.0//EN
CALSCALE:GREGORIAN
METHOD:PUBLISH
BEGIN:VEVENT
UID:69eb2f9d36ade
DTSTAMP:20260424T085349Z
DTSTART:20230721T150000Z
DTEND:20230721T170000Z
LOCATION:GrÃ¼nwerkstatt - Raum rund ums GrÃ¼n in der Messestadt Helsinkistr. 57
SUMMARY:Kaba Club: Spielewerkstatt von Echo e.V. in der GrÃ¼nwerkstatt
DESCRIPTION:Fr\, \,  21.07.\,  15:00 â€“ 17:00 Uhr Kaba Club: Spielewerksta
 tt von Echo e.V. in der GrÃ¼nwerkstatt FÃ¼r Kinder ab 6 Jahren Einen Nachmi
 ttag lang spielen\,  spielen\,  spielen! Hier kÃ¶nnt ihr verschiedene Brett
 - und Kartenspiele ausprobieren\,  brandneu herausgekommene Spiele testen â
 €“ und vielleicht sogar euer eigenes neues Spiel erfinden? Ort: GrÃ¼nwerkst
 att\,  Helsinkistr.[..]\nhttps://kitz-magazin.de/Veranstaltungen/kaba-club-
 spielewerkstatt-von-echo-e-v-in-der-gruenwerkstatt/
URL:https://kitz-magazin.de/Veranstaltungen/kaba-club-spielewerkstatt-von-echo-e-v-in-der-gruenwerkstatt/
END:VEVENT
END:VCALENDAR