BEGIN:VCALENDAR
VERSION:2.0
PRODID:-//eventon.com NONSGML v1.0//EN
CALSCALE:GREGORIAN
METHOD:PUBLISH
BEGIN:VEVENT
UID:69e753722cf4b
DTSTAMP:20260421T103738Z
DTSTART:20230903T160000Z
DTEND:20230903T235000Z
LOCATION:Alte Münze
SUMMARY:Kindertheater Fraunhofer  "PUPPENZIRKUS - EINE CLOWNIADE" beim Münchner Denkmalsommer im Innenhof der Alten Münze
DESCRIPTION:So\,  10.09. um 16.00 Uhr Kindertheater Fraunhofer &#8222;PUPPE
 NZIRKUS &#8211; EINE CLOWNIADE&#8220; beim Münchner Denkmalsommer im Innen
 hof der Alten Münze Für Kinder ab 4 Jahren Ein Theater- und ein Zirkusclo
 wn erwecken mit Spielzeug\,  Puppen\,  Requisiten und Drumunddran eine spie
 lerische Fantasie und die Illusion eines Zirkus. Eintritt: Kostenfrei! Ort:
  Innenhof der Alten[..]\nhttps://kitz-magazin.de/Veranstaltungen/kinderthea
 ter-fraunhofer-puppenzirkus-eine-clowniade-beim-muenchner-denkmalsommer-im-
 innenhof-der-alten-muenze/
URL:https://kitz-magazin.de/Veranstaltungen/kindertheater-fraunhofer-puppenzirkus-eine-clowniade-beim-muenchner-denkmalsommer-im-innenhof-der-alten-muenze/
END:VEVENT
END:VCALENDAR