BEGIN:VCALENDAR
VERSION:2.0
PRODID:-//eventon.com NONSGML v1.0//EN
CALSCALE:GREGORIAN
METHOD:PUBLISH
BEGIN:VEVENT
UID:69ec01b2e5a00
DTSTAMP:20260424T235010Z
DTSTART:20230920T153000Z
DTEND:20230920T163000Z
LOCATION:Pinakothek der Moderne Barer Straße 40
SUMMARY:Mit Pina in die Pinakothek der Moderne! - Workshop für die Allerkleinsten
DESCRIPTION:MI.\,  20.09.2023\,  15:30-16:30 Mit Pina in die Pinakothek der
  Moderne! &#8211; Workshop für die Allerkleinsten Für Kinder von 2-4 Jahr
 en Mit Pina in die Pinakothek der Moderne! Pina und das Fliegen. in Worksho
 p für die Allerkleinsten im Alter von 2-4 Jahren. In diesem Workshop erkun
 den wir gemeinsam mit der Museumsspinne[..]\nhttps://kitz-magazin.de/Verans
 taltungen/mit-pina-in-die-pinakothek-der-moderne-workshop-fuer-die-allerkle
 insten-3/
URL:https://kitz-magazin.de/Veranstaltungen/mit-pina-in-die-pinakothek-der-moderne-workshop-fuer-die-allerkleinsten-3/
END:VEVENT
END:VCALENDAR