BEGIN:VCALENDAR
VERSION:2.0
PRODID:-//eventon.com NONSGML v1.0//EN
CALSCALE:GREGORIAN
METHOD:PUBLISH
BEGIN:VEVENT
UID:69e980c133c2c
DTSTAMP:20260423T021529Z
DTSTART:20230920T150000Z
DTEND:20230920T180000Z
LOCATION:Georg-Freundorfer-Platz
SUMMARY:DSCHUNGELPALAST MOBIL WELTKINDERTAG
DESCRIPTION:Mi.\,  20.09.\,  14:00 – 18:00 Uhr DSCHUNGELPALAST MOBIL WELT
 KINDERTAG Für alle Interessierte Heute ist Weltkindertag\,  ein Tag der eu
 ch Kinder in den Mittelpunkt stellt. Für die Mitglieder der Arbeitsgemeins
 chaft Spiellandschaft Stadt\,  sind die Anliegen der Kinder und Familien da
 s ganze Jahr über Mittelpunkt ihres Engagements und gemeinsam präsentiere
 n sie am[..]\nhttps://kitz-magazin.de/Veranstaltungen/dschungelpalast-mobil
 -weltkindertag/
URL:https://kitz-magazin.de/Veranstaltungen/dschungelpalast-mobil-weltkindertag/
END:VEVENT
END:VCALENDAR