BEGIN:VCALENDAR
VERSION:2.0
PRODID:-//eventon.com NONSGML v1.0//EN
CALSCALE:GREGORIAN
METHOD:PUBLISH
BEGIN:VEVENT
UID:69e4d48e9c41d
DTSTAMP:20260419T131142Z
DTSTART:20231020T173000Z
DTEND:20231020T200000Z
LOCATION:Walderlebniszentrum Grünwald Sauschütt
SUMMARY:Nachtwanderung mit Lagerfeuer im Walderlebniszentrum Grünwald
DESCRIPTION:Freitag\,  20. Oktober\,  19.30-22.00 Uhr Nachtwanderung mit La
 gerfeuer im Walderlebniszentrum Grünwald Für Familien mit Kindern ab 6 Ja
 hren Wenn der Waldkauz ruft und es geheimnisvoll im Dunkeln raschelt\,  dan
 n sind wir unterwegs und erleben den Wald bei Nacht. Alle Sinne werden auf 
 die Probe gestellt und Sie werden erstaunt sein\, [..]\nhttps://kitz-magazi
 n.de/Veranstaltungen/nachtwanderung-mit-lagerfeuer-im-walderlebniszentrum-g
 ruenwald-3/
URL:https://kitz-magazin.de/Veranstaltungen/nachtwanderung-mit-lagerfeuer-im-walderlebniszentrum-gruenwald-3/
END:VEVENT
END:VCALENDAR