BEGIN:VCALENDAR
VERSION:2.0
PRODID:-//eventon.com NONSGML v1.0//EN
CALSCALE:GREGORIAN
METHOD:PUBLISH
BEGIN:VEVENT
UID:69e5906428246
DTSTAMP:20260420T023308Z
DTSTART:20231105T140000Z
DTEND:20231105T153000Z
LOCATION:Akasha Academy
SUMMARY:Klimaherbst.YOUTH: Folge Willy dem Wal auf seiner Reise durch die Ozeane Eine interaktive Geschichte über unsere Verbindung mit der Natur
DESCRIPTION:5. November\,  15:00–16:30 Klimaherbst.YOUTH: Folge Willy dem
  Wal auf seiner Reise durch die Ozeane Eine interaktive Geschichte über un
 sere Verbindung mit der Natur Für Kinder von 5-10 Jahren Kinder werden die
  Folgen des Klimawandels besonders stark erleben. Damit sie sich mutig für
  die Zukunft unseres Planeten einsetzen können\,  ist es[..]\nhttps://kitz
 -magazin.de/Veranstaltungen/klimaherbst-youth-folge-willy-dem-wal-auf-seine
 r-reise-durch-die-ozeane-eine-interaktive-geschichte-ueber-unsere-verbindun
 g-mit-der-natur/
URL:https://kitz-magazin.de/Veranstaltungen/klimaherbst-youth-folge-willy-dem-wal-auf-seiner-reise-durch-die-ozeane-eine-interaktive-geschichte-ueber-unsere-verbindung-mit-der-natur/
END:VEVENT
END:VCALENDAR