BEGIN:VCALENDAR
VERSION:2.0
PRODID:-//eventon.com NONSGML v1.0//EN
CALSCALE:GREGORIAN
METHOD:PUBLISH
BEGIN:VEVENT
UID:69ed8b3f4b310
DTSTAMP:20260426T034919Z
DTSTART:20231112T100000Z
DTEND:20231112T225000Z
LOCATION:Kleines Theater im Pförtnerhaus im Bürgerpark Oberföhring Oberföhringerstr. 156
SUMMARY:Kleines Theater im Pförtnerhaus - Heute kocht der Kasperl
DESCRIPTION:Mittwoch 8.11.\,  15.oo Uhr und Sonntag 12.11.\,  11.oo &amp; 1
 5.oo Uhr Kleines Theater im Pförtnerhaus &#8211; Heute kocht der Kasperl F
 ür Kinder ab 3 Jahren Oh Schreck- ausgerechnet jetzt muss Omi für einige 
 Tage verreisen\,  doch Kasperl und Seppl müssen zuhause bleiben. Daher bit
 tet sie Gretel sich um die beiden[..]\nhttps://kitz-magazin.de/Veranstaltun
 gen/kleines-theater-im-pfoertnerhaus-heute-kocht-der-kasperl-4/var/ri-1.l-L
 1
URL:https://kitz-magazin.de/Veranstaltungen/kleines-theater-im-pfoertnerhaus-heute-kocht-der-kasperl-4/var/ri-1.l-L1
END:VEVENT
END:VCALENDAR