BEGIN:VCALENDAR
VERSION:2.0
PRODID:-//eventon.com NONSGML v1.0//EN
CALSCALE:GREGORIAN
METHOD:PUBLISH
BEGIN:VEVENT
UID:69e4d3c7a8ea9
DTSTAMP:20260419T130823Z
DTSTART:20231122T140000Z
DTEND:20231122T225000Z
LOCATION:Kleines Theater im Pförtnerhaus im Bürgerpark Oberföhring Oberföhringerstr. 156
SUMMARY:Kleines Theater im Pförtnerhaus - "Kasperls Abenteuer im Winterwald"
DESCRIPTION:Mittwoch 22.11.\,  15.oo Uhr und Sonntag 26.11.\,  11.oo &amp; 
 15.oo Uhr Kleines Theater im Pförtnerhaus &#8222;Kasperls Abenteuer im Win
 terwald&#8220; Für Kinder ab 4 Jahren Kasperl und Seppl dürfen dem Först
 er beim Wildfüttern helfen\,  da knallt ein Schuss &#8211; Wilderer. Der F
 örster macht sich sofort auf die Suche nach dem Übeltäter.[..]\nhttps://
 kitz-magazin.de/Veranstaltungen/kleines-theater-im-pfoertnerhaus-kasperls-a
 benteuer-im-winterwald-4/
URL:https://kitz-magazin.de/Veranstaltungen/kleines-theater-im-pfoertnerhaus-kasperls-abenteuer-im-winterwald-4/
END:VEVENT
END:VCALENDAR