BEGIN:VCALENDAR
VERSION:2.0
PRODID:-//eventon.com NONSGML v1.0//EN
CALSCALE:GREGORIAN
METHOD:PUBLISH
BEGIN:VEVENT
UID:69ed0e7256f15
DTSTAMP:20260425T185650Z
DTSTART:20231202T110000Z
DTEND:20231202T160000Z
LOCATION:KEKKO Kreativraum
SUMMARY:KEKKO Weihnachtszauber: Kunsthandwerk\,  Unikate & Selbstgemachtes aus Atelier & Werkstatt im KEKKO Kreativraum
DESCRIPTION:KEKKO Weihnachtszauber: Kunsthandwerk\,  Unikate &amp; Selbstge
 machtes aus Atelier &amp; Werkstatt im KEKKO Kreativraum Für alle Interess
 ierte Kreative Keramik\,  künstlerisches Porzellan\,  weihnachtlicher Glas
 schmuck\,  originelle Kalender\,  Münchner Wimmelbilder\,  Karten und Büc
 hlein aus dem KEKKO Verlag\,  Genähtes\,  Bedrucktes\,  Dekoriertes\,  Ver
 rücktes\,  all das und noch viel mehr gibt es auf unserem Weihnachtszauber
  zu entdecken.[..]\nhttps://kitz-magazin.de/Veranstaltungen/kekko-weihnacht
 szauber-kunsthandwerk-unikate-selbstgemachtes-aus-atelier-werkstatt-im-kekk
 o-kreativraum/
URL:https://kitz-magazin.de/Veranstaltungen/kekko-weihnachtszauber-kunsthandwerk-unikate-selbstgemachtes-aus-atelier-werkstatt-im-kekko-kreativraum/
END:VEVENT
END:VCALENDAR