BEGIN:VCALENDAR
VERSION:2.0
PRODID:-//eventon.com NONSGML v1.0//EN
CALSCALE:GREGORIAN
METHOD:PUBLISH
BEGIN:VEVENT
UID:69e752536a936
DTSTAMP:20260421T103251Z
DTSTART:20240107T100000Z
DTEND:20240107T225000Z
LOCATION:Kleines Theater im Pförtnerhaus im Bürgerpark Oberföhring Oberföhringerstr. 156
SUMMARY:Kleines Theater im Pförtnerhaus - "Kasperls Abenteuer im Winterwald"
DESCRIPTION:Sonntag 7.1.\,  11.oo &amp; 15.oo Uhr und Mittwoch 10.1.\,  15.
 oo Uhr Kleines Theater im Pförtnerhaus &#8222;Kasperls Abenteuer im Winter
 wald&#8220; Für Kinder ab 4 Jahren Kasperl und Seppl dürfen dem Förster 
 beim Wildfüttern helfen\,  da knallt ein Schuss &#8211; Wilderer. Der För
 ster macht sich sofort auf die Suche nach dem Übeltäter.[..]\nhttps://kit
 z-magazin.de/Veranstaltungen/kleines-theater-im-pfoertnerhaus-kasperls-aben
 teuer-im-winterwald-5/
URL:https://kitz-magazin.de/Veranstaltungen/kleines-theater-im-pfoertnerhaus-kasperls-abenteuer-im-winterwald-5/
END:VEVENT
END:VCALENDAR