BEGIN:VCALENDAR
VERSION:2.0
PRODID:-//eventon.com NONSGML v1.0//EN
CALSCALE:GREGORIAN
METHOD:PUBLISH
BEGIN:VEVENT
UID:69e996ef335b0
DTSTAMP:20260423T035007Z
DTSTART:20240307T180000Z
DTEND:20240307T210000Z
LOCATION:Münchner Lenbachhaus Luisenstraße 33
SUMMARY:PLAY_TIME: offene Werkstatt zur Ausstellung von Günter Fruhtrunk im Lenbachhaus
DESCRIPTION:PLAY_TIME: offene Werkstatt zur Ausstellung von Günter Fruhtru
 nk im Lenbachhaus Für alle Interessierte Kommt vorbei und entwickelt von G
 ünter Fruhtrunk inspirierte Collagen aus farbigem Papier. Bringt an unsere
 r großen Magnetwand Formen und Farben in Bewegung und tauscht euch darübe
 r aus. Bei PLAY_TIME laden wir Euch zum eigenen künstlerischen Handeln in[
 ..]\nhttps://kitz-magazin.de/Veranstaltungen/play_time-offenes-atelier-zur-
 ausstellung-von-guenter-fruhtrunk-in-der-villa-franz-von-lenbach/var/ri-2.l
 -L1
URL:https://kitz-magazin.de/Veranstaltungen/play_time-offenes-atelier-zur-ausstellung-von-guenter-fruhtrunk-in-der-villa-franz-von-lenbach/var/ri-2.l-L1
END:VEVENT
END:VCALENDAR