BEGIN:VCALENDAR
VERSION:2.0
PRODID:-//eventon.com NONSGML v1.0//EN
CALSCALE:GREGORIAN
METHOD:PUBLISH
BEGIN:VEVENT
UID:69ebaeea9de3f
DTSTAMP:20260424T175658Z
DTSTART:20240329T080000Z
DTEND:20240329T170000Z
LOCATION:Zoo Augsburg
SUMMARY:OSTERN erleben IM ZOO AUGSBURG
DESCRIPTION:Karfreitag\,  29.03. bis Ostermontag\,  01.04.2024\,  von 9.00 
 bis 18.00 Uhr Ostern erleben im Zoo Augsburg Für die ganze Familie Lange n
 icht da gewesen? Ostern erleben im Zoo Augsburg. Weitere Infos unter www.zo
 o-augsburg.de Zoologischer Garten Augsburg GmbH Brehmplatz 1 86161 Augsburg
  E-Mail: info@zoo-augsburg.de\nhttps://kitz-magazin.de/Veranstaltungen/oste
 rn-erleben-im-zoo-augsburg/
URL:https://kitz-magazin.de/Veranstaltungen/ostern-erleben-im-zoo-augsburg/
END:VEVENT
END:VCALENDAR