BEGIN:VCALENDAR
VERSION:2.0
PRODID:-//eventon.com NONSGML v1.0//EN
CALSCALE:GREGORIAN
METHOD:PUBLISH
BEGIN:VEVENT
UID:69eb474a59583
DTSTAMP:20260424T103450Z
DTSTART:20240204T140000Z
DTEND:20240204T170000Z
LOCATION:
SUMMARY:Kinderfasching im Hofbräukeller
DESCRIPTION:So.\,  04.02.2024 &#8211; 14:00 bis 17.00 Uhr Kinderfasching im
  Hofbräukeller Für Familien mit Kindern Es ist wieder soweit! Unser tradi
 tionelle Kinderfasching steht bevor. Unsere Animateure sorgen mit Unterhalt
 ung\,  Tanz und Spiel für Freude und Spaß. Neben einem lustigen Mitmachpr
 ogramm warten auch viele Überraschungen für unsere kleinen Gäste. Auch i
 n diesem[..]\nhttps://kitz-magazin.de/Veranstaltungen/kinderfasching-im-hof
 braeukeller/
URL:https://kitz-magazin.de/Veranstaltungen/kinderfasching-im-hofbraeukeller/
END:VEVENT
END:VCALENDAR