BEGIN:VCALENDAR
VERSION:2.0
PRODID:-//eventon.com NONSGML v1.0//EN
CALSCALE:GREGORIAN
METHOD:PUBLISH
BEGIN:VEVENT
UID:69e73c210f8fc
DTSTAMP:20260421T085809Z
DTSTART:20240131T140000Z
DTEND:20240131T185000Z
LOCATION:Feierwerk Boom
SUMMARY:Feierwerk boom(t) in Freiham - Offener Treff für Jugendliche
DESCRIPTION:Offener Treff für Jugendliche mittwochs von 14.00 bis 18.00 Uh
 r und freitags von 15.00 bis 21.00 Uhr Feierwerk boom(t) in Freiham &#8211;
  Offener Treff für Jugendliche Für Kinder und Jugendliche ab 10 Jahre Fei
 erwerk boom(t) in Freiham. Das mobile Vorlaufprojekt des Feierwerk e.V. fü
 r die zukünftige Jugendfreizeitstätte im neuen Münchner[..]\nhttps://kit
 z-magazin.de/Veranstaltungen/feierwerk-boomt-in-freiham-offener-treff-fuer-
 jugendliche/
URL:https://kitz-magazin.de/Veranstaltungen/feierwerk-boomt-in-freiham-offener-treff-fuer-jugendliche/
END:VEVENT
END:VCALENDAR