BEGIN:VCALENDAR
VERSION:2.0
PRODID:-//eventon.com NONSGML v1.0//EN
CALSCALE:GREGORIAN
METHOD:PUBLISH
BEGIN:VEVENT
UID:69e73ce721bbd
DTSTAMP:20260421T090127Z
DTSTART:20240201T161500Z
DTEND:20240201T171500Z
LOCATION:Stadtbibliothek Allach
SUMMARY:Leseaktion: "Vorlesen mit den Lesefüchsen" in der Stadtbibliothek Allach Untermenzing
DESCRIPTION:Do.\,  01.02. / 08.02. / 15.02. / 22.02. / 29.02. 2024 jeweils 
 16.15 Uhr &#8222;Vorlesen mit den Lesefüchsen&#8220; Für Kinder ab 4 Jahr
 en Die Lesefüchse e.V. lesen vor. Sie möchten die Leselust der Kinder fö
 rdern und nehmen sie mit in eine bunte und aufregende Welt der Geschichten.
  Wer regelmäßig kommt[..]\nhttps://kitz-magazin.de/Veranstaltungen/leseak
 tion-vorlesen-mit-den-lesefuechsen-in-der-stadtbibliothek-allach-untermenzi
 ng-4/
URL:https://kitz-magazin.de/Veranstaltungen/leseaktion-vorlesen-mit-den-lesefuechsen-in-der-stadtbibliothek-allach-untermenzing-4/
END:VEVENT
END:VCALENDAR