BEGIN:VCALENDAR
VERSION:2.0
PRODID:-//eventon.com NONSGML v1.0//EN
CALSCALE:GREGORIAN
METHOD:PUBLISH
BEGIN:VEVENT
UID:69eb2ff87a42e
DTSTAMP:20260424T085520Z
DTSTART:20240330T140000Z
DTEND:20240330T150000Z
LOCATION:KEKKO Kreativraum
SUMMARY:KEKKO Kreativraum: Wir warten auf den Osterhasen: Emaille-Werkstatt fÃ¼r Klein & GroÃŸ
DESCRIPTION:30.03.2024\,  14.00 Uhr\,  und 15.30 UhrÂ  KEKKO Kreativraum: W
 ir warten auf den Osterhasen\,  Emaille-Werkstatt fÃ¼r Klein &amp; GroÃŸ FÃ
 ¼r alle ab 6 Jahre Im Kekko Kreativraum kÃ¶nnen am Karsamstag kleine Schmuc
 kstÃ¼cke mit der Emaille-Technik hergestellt werden. Dauer je Slot 60 Minut
 en Kosten: 15â‚¬ pro Person Anmeldung per E-Mail an sensei@kekko-kreativ.de
 [..]\nhttps://kitz-magazin.de/Veranstaltungen/kekko-kreativraum-wir-warten-
 auf-den-osterhasen-emaille-werkstatt-fuer-klein-gross/
URL:https://kitz-magazin.de/Veranstaltungen/kekko-kreativraum-wir-warten-auf-den-osterhasen-emaille-werkstatt-fuer-klein-gross/
END:VEVENT
END:VCALENDAR