BEGIN:VCALENDAR
VERSION:2.0
PRODID:-//eventon.com NONSGML v1.0//EN
CALSCALE:GREGORIAN
METHOD:PUBLISH
BEGIN:VEVENT
UID:69e73cc52da40
DTSTAMP:20260421T090053Z
DTSTART:20240419T120000Z
DTEND:20240419T150000Z
LOCATION:St. Anna Kirche Lehel
SUMMARY:Flohmarkt für Kinderkleidung und Spielsachen veranstaltet vom Haus für Kinder St. Anna im Lehel
DESCRIPTION:Freitag\,  19.04.2024\,   ab 14.00 Uhr (13.45 Uhr Einlass für
  Schwangere) bis 17.00 Uhr Flohmarkt vom Haus für Kinder St. Anna im Lehel
  Für alle Interessierte Ort: im Pfarrsaal der St. Anna Kirche\,  St.-Anna-
 Straße 19\,  80538 München Uhrzeit: von 14:00 &#8211; 17:00 Uhr Der Flohm
 arkt ist für Kinderkleidung und Spielsachen. Für[..]\nhttps://kitz-magazi
 n.de/Veranstaltungen/flohmarkt-fuer-kinderkleidung-und-spielsachen-veransta
 ltet-vom-haus-fuer-kinder-st-anna-im-lehel-3/
URL:https://kitz-magazin.de/Veranstaltungen/flohmarkt-fuer-kinderkleidung-und-spielsachen-veranstaltet-vom-haus-fuer-kinder-st-anna-im-lehel-3/
END:VEVENT
END:VCALENDAR