BEGIN:VCALENDAR
VERSION:2.0
PRODID:-//eventon.com NONSGML v1.0//EN
CALSCALE:GREGORIAN
METHOD:PUBLISH
BEGIN:VEVENT
UID:69e88a6f22309
DTSTAMP:20260422T084431Z
DTSTART:20240420T130000Z
DTEND:20240420T153000Z
LOCATION:Haus Dorothee St.-Michael-Str. 88
SUMMARY:Atempause - Zeit nur für mich. Ein Angebot für Alleinerziehende im Haus Dorothee
DESCRIPTION:Sa.\,  20.04.\,  Sa.\,  29.06.\,  Sa.\,  20.07.2024 jeweils von
  15:00 &#8211; 17:30 Uhr Atempause &#8211; Zeit nur für mich. Ein Angebot 
 für Alleinerziehende im Haus Dorothee Um den täglichen Herausforderungen 
 auf Dauer standhalten zu können\,  muss man gut für sich selbst sorgen: E
 ine Zeit nur für mich. Ruhig werden\,  regenerieren und[..]\nhttps://kitz-
 magazin.de/Veranstaltungen/atempause-zeit-nur-fuer-mich-ein-angebot-fuer-al
 leinerziehende-im-haus-dorothee-2/
URL:https://kitz-magazin.de/Veranstaltungen/atempause-zeit-nur-fuer-mich-ein-angebot-fuer-alleinerziehende-im-haus-dorothee-2/
END:VEVENT
END:VCALENDAR