BEGIN:VCALENDAR
VERSION:2.0
PRODID:-//eventon.com NONSGML v1.0//EN
CALSCALE:GREGORIAN
METHOD:PUBLISH
BEGIN:VEVENT
UID:69ec134c5ef92
DTSTAMP:20260425T010516Z
DTSTART:20230314
DTEND:20230315
LOCATION:Gasteig HP8
SUMMARY:Jugendfilmfestival "Flimmern & Rauschen 2024" im Gasteig HP8
DESCRIPTION:14. – 16. März 2024 Jugendfilmfestival &#8222;Flimmern und R
 auschen 2024&#8220; im Gasteig HP8 Für alle Interessierte Jährlich präse
 ntiert sich für drei Tage der Münchner Filmnachwuchs bei flimmern&amp;rau
 schen. Das Filmfestival der jungen Szene lockt durch technische und erzähl
 erische Raffinesse im Kurzfilm Jung und Alt ins Publikum. Junge Filmemacher
 *innen zeigen\,  dass man[..]\nhttps://kitz-magazin.de/Veranstaltungen/juge
 ndfilmfestival-flimmern-rauschen-2024-im-gasteig-hp8/
URL:https://kitz-magazin.de/Veranstaltungen/jugendfilmfestival-flimmern-rauschen-2024-im-gasteig-hp8/
END:VEVENT
END:VCALENDAR