BEGIN:VCALENDAR
VERSION:2.0
PRODID:-//eventon.com NONSGML v1.0//EN
CALSCALE:GREGORIAN
METHOD:PUBLISH
BEGIN:VEVENT
UID:69ed749ace72a
DTSTAMP:20260426T021242Z
DTSTART:20240320T083000Z
DTEND:20240320T124000Z
LOCATION:Bibliothek der Stiftung Pfennigparade Barlachstr. 36c
SUMMARY:Kinder- und Jugendbuchausstellung "Die 100 Besten! – Neugierig auf Bücher" in der Bibliothek der Stiftung Pfennigparade
DESCRIPTION:18. bis 22. März 2024\,  Montag\,  Mittwoch\,  Freitag 09.30 &
 #8211; 13.40 Uhr Dienstag\,  Donnerstag 13.00 &#8211; 18.00 Uhr Kinder- und
  Jugendbuchausstellung &#8222;Die 100 Besten! – Neugierig auf Bücher&#82
 20; in der Bibliothek der Stiftung Pfennigparade Für Kinder ab 6 Jahren Di
 e Titel der Ausstellung „Die 100 Besten!“ sind von den drei[..]\nhttps:
 //kitz-magazin.de/Veranstaltungen/kinder-und-jugendbuchausstellung-die-100-
 besten-neugierig-auf-buecher-in-der-bibliothek-der-stiftung-pfennigparade/v
 ar/ri-2.l-L1
URL:https://kitz-magazin.de/Veranstaltungen/kinder-und-jugendbuchausstellung-die-100-besten-neugierig-auf-buecher-in-der-bibliothek-der-stiftung-pfennigparade/var/ri-2.l-L1
END:VEVENT
END:VCALENDAR