BEGIN:VCALENDAR
VERSION:2.0
PRODID:-//eventon.com NONSGML v1.0//EN
CALSCALE:GREGORIAN
METHOD:PUBLISH
BEGIN:VEVENT
UID:69e97b3f2ee02
DTSTAMP:20260423T015159Z
DTSTART:20240403T100000Z
DTEND:20240403T160000Z
LOCATION:Feierwerk Boom
SUMMARY:Osterferienprogramm im Feierwerk Boom in Freiham - BATIKEN
DESCRIPTION:Mi 03.04.2024\,  10:00 bis 16:00 Uhr Osterferienprogramm im Fei
 erwerk Boom in Freiham &#8211; BATIKEN Für 10- bis 14-Jährige Das Leben i
 st bunt und vielfältig\,  und genauso soll auch unsere Kleidung sein. Geme
 insam experimentieren wir mit Textilfarbe\,  Stoff-Abbinden\,  Falten und l
 assen uns dann von coolen Farbergebnissen überraschen. Socken und Stoffbeu
 tel stehen[..]\nhttps://kitz-magazin.de/Veranstaltungen/osterferienprogramm
 -im-feierwerk-boom-in-freiham-batiken/
URL:https://kitz-magazin.de/Veranstaltungen/osterferienprogramm-im-feierwerk-boom-in-freiham-batiken/
END:VEVENT
END:VCALENDAR