BEGIN:VCALENDAR
VERSION:2.0
PRODID:-//eventon.com NONSGML v1.0//EN
CALSCALE:GREGORIAN
METHOD:PUBLISH
BEGIN:VEVENT
UID:69eb2ff86c4db
DTSTAMP:20260424T085520Z
DTSTART:20240529T094500Z
DTEND:20240529T150000Z
LOCATION:Feierwerk Funkstation Margarete-Schütte-Lihotzky-Straße 36
SUMMARY:FUNKSTATION (SCHWABING-FREIMANN): FERIENAUSFLUG IN DEN BOTANISCHEN GARTEN MIT MUSEUMSBESUCH
DESCRIPTION:MI 29.05.2024\,  09:45 Uhr bis 15:00 Uhr FUNKSTATION (SCHWABING
 -FREIMANN): FERIENAUSFLUG IN DEN BOTANISCHEN GARTEN MIT MUSEUMSBESUCH Für 
 die ganze Familie Im Frühjahr ist der Botanische Garten besonders schön: 
 Wir erkunden zusammen die Gewächshäuser\,  bestaunen die Schildkröten un
 d entdecken Pflanzen und Bäume. Wer Lust hat\,  kommt danach noch mit ins 
 nahegelegene[..]\nhttps://kitz-magazin.de/Veranstaltungen/funkstation-schwa
 bing-freimann-ferienausflug-in-den-botanischen-garten-mit-museumsbesuch/
URL:https://kitz-magazin.de/Veranstaltungen/funkstation-schwabing-freimann-ferienausflug-in-den-botanischen-garten-mit-museumsbesuch/
END:VEVENT
END:VCALENDAR