BEGIN:VCALENDAR
VERSION:2.0
PRODID:-//eventon.com NONSGML v1.0//EN
CALSCALE:GREGORIAN
METHOD:PUBLISH
BEGIN:VEVENT
UID:69e73d4d4d999
DTSTAMP:20260421T090309Z
DTSTART:20240531T100000Z
DTEND:20240531T160000Z
LOCATION:Feierwerk Boom
SUMMARY:Mountainbike Fahrtechniktraining 1-tägiger Kurs im Feierwerk Boom in Freiham
DESCRIPTION:Fr. 31.05.\,  10.00 bis 16.00 Uhr Mountainbike Fahrtechniktrain
 ing 1-tägiger Kurs im Feierwerk Boom in Freiham Für 10- bis 14-Jährige B
 ei diesem Kurs erlernen Teilnehmer*innen die Grundzüge der Fahrtechnik bei
 m Mountainbiken. Inhalte sind Haltung\,  Gleichgewicht\,  Kurventechnik und
  Bremsverhalten. Neben dem Übungsteil stehen auch Bike-Spiele und eine coo
 le Trail-Tour auf dem Programm.[..]\nhttps://kitz-magazin.de/Veranstaltunge
 n/mountainbike-fahrtechniktraining-1-taegiger-kurs-im-feierwerk-boom-in-fre
 iham/
URL:https://kitz-magazin.de/Veranstaltungen/mountainbike-fahrtechniktraining-1-taegiger-kurs-im-feierwerk-boom-in-freiham/
END:VEVENT
END:VCALENDAR