BEGIN:VCALENDAR
VERSION:2.0
PRODID:-//eventon.com NONSGML v1.0//EN
CALSCALE:GREGORIAN
METHOD:PUBLISH
BEGIN:VEVENT
UID:69e81c75aef81
DTSTAMP:20260422T005517Z
DTSTART:20240606T130000Z
DTEND:20240606T143000Z
LOCATION:
SUMMARY:Kostenlose Mediensprechstunden im Rahmen des bundesweiten "Digitaltags 2024" - SIN Studio im Netz e.V.
DESCRIPTION:Kostenlose Mediensprechstunden im Rahmen des bundesweiten &#822
 2;Digitaltags 2024&#8220; &#8211; SIN Studio im Netz e.V. Für alle Interes
 sierte Die digitale Welt bringt viele Herausforderungen mit sich: Zwischen 
 sicheren Login-Verfahren\,  dubiosen Telefontricks\,  KI-generierten Inhalt
 en und ständig neuen Trends fühlen sich einige Menschen verloren. Wer nac
 h Hilfe oder Ratschlägen sucht\,  ist bei den[..]\nhttps://kitz-magazin.de
 /Veranstaltungen/kostenlose-mediensprechstunden-im-rahmen-des-bundesweiten-
 digitaltags-2024-sin-studio-im-netz-e-v/var/ri-1.l-L1
URL:https://kitz-magazin.de/Veranstaltungen/kostenlose-mediensprechstunden-im-rahmen-des-bundesweiten-digitaltags-2024-sin-studio-im-netz-e-v/var/ri-1.l-L1
END:VEVENT
END:VCALENDAR