BEGIN:VCALENDAR
VERSION:2.0
PRODID:-//eventon.com NONSGML v1.0//EN
CALSCALE:GREGORIAN
METHOD:PUBLISH
BEGIN:VEVENT
UID:69e7506357253
DTSTAMP:20260421T102435Z
DTSTART:20240619T160000Z
DTEND:20240619T170000Z
LOCATION:Feierwerk Funkstation Margarete-Schütte-Lihotzky-Straße 36
SUMMARY:FUNKSTATION (SCHWABING-FREIMANN): Mini Medien-Labor
DESCRIPTION:Mittwochs 19.06. bis 17.07.\,  16.00 bis 17.00 Uhr FUNKSTATION 
 (SCHWABING-FREIMANN): Mini Medien-Labor Für Kinder für von 6 bis 8 Jahren
  Im Mini-Medienlabor sammeln Kinder erste Erfahrungen mit Computer\,  Table
 t\,  Kamera &amp; Co. Unter Anleitung lernen sie gezielt Spiele und kreativ
 e Medien kennen. Jede Woche steht ein anderes Thema auf dem[..]\nhttps://ki
 tz-magazin.de/Veranstaltungen/funkstation-schwabing-freimann-mini-medien-la
 bor/
URL:https://kitz-magazin.de/Veranstaltungen/funkstation-schwabing-freimann-mini-medien-labor/
END:VEVENT
END:VCALENDAR