BEGIN:VCALENDAR
VERSION:2.0
PRODID:-//eventon.com NONSGML v1.0//EN
CALSCALE:GREGORIAN
METHOD:PUBLISH
BEGIN:VEVENT
UID:69e89a9d8ca08
DTSTAMP:20260422T095333Z
DTSTART:20240601T100000Z
DTEND:20240601T160000Z
LOCATION:Feierwerk Südpolstation Gustav-Heinemann-Ring 19
SUMMARY:Busausflug zum Erdbeerfeld mit der Feierwerk Südpolstation
DESCRIPTION:Sa. 01.06.\,  10.00 bis 16.00 Uhr Busausflug zum Erdbeerfeld mi
 t der Feierwerk Südpolstation Für 8- bis 12-Jährige Mit dem Feierwerk-Bu
 s geht es nach Altomünster zur Köchin Walburga\,  die den Kindern eine Er
 dbeerführung anbietet. Walburga kultiviert auf drei verschiedenen Feldern 
 13 alte Erdbeersorten\,  die die Kinder auch pflücken dürfen. Anschließe
 nd machen[..]\nhttps://kitz-magazin.de/Veranstaltungen/busausflug-zum-erdbe
 erfeld-mit-der-feierwerk-suedpolstation/
URL:https://kitz-magazin.de/Veranstaltungen/busausflug-zum-erdbeerfeld-mit-der-feierwerk-suedpolstation/
END:VEVENT
END:VCALENDAR