BEGIN:VCALENDAR
VERSION:2.0
PRODID:-//eventon.com NONSGML v1.0//EN
CALSCALE:GREGORIAN
METHOD:PUBLISH
BEGIN:VEVENT
UID:69ebc53b1e121
DTSTAMP:20260424T193211Z
DTSTART:20240729T100000Z
DTEND:20240729T140000Z
LOCATION:
SUMMARY:MPZ-Ferienaktion: Fünf Tage – fünf Museen "Muster über Muster"
DESCRIPTION:Mo bis Fr\,  29.07.2024 bis 02.08.2024\,  jeweils 10.00–14.00
  Uhr MPZ-Ferienaktion: Fünf Tage – fünf Museen &#8222;Muster über Must
 er&#8220; Für Kindern und Jugendliche von 8 Jahren bis 12 Jahren Fünf Tag
 e lang begeben wir uns auf Entdeckungsreise durch fünf Museen. Dabei finde
 n wir die unterschiedlichsten Muster: feinste Seidenstoffe\,  tolle Fußbö
 den oder[..]\nhttps://kitz-magazin.de/Veranstaltungen/mpz-ferienaktion-fuen
 f-tage-fuenf-museen-muster-ueber-muster/
URL:https://kitz-magazin.de/Veranstaltungen/mpz-ferienaktion-fuenf-tage-fuenf-museen-muster-ueber-muster/
END:VEVENT
END:VCALENDAR