BEGIN:VCALENDAR
VERSION:2.0
PRODID:-//eventon.com NONSGML v1.0//EN
CALSCALE:GREGORIAN
METHOD:PUBLISH
BEGIN:VEVENT
UID:69e751af6739e
DTSTAMP:20260421T103007Z
DTSTART:20240802T160000Z
DTEND:20240802T163000Z
LOCATION:Münchner Stadtbibliothek Rosenheimer Str. 5
SUMMARY:BilderBuchZeit: Vorlesen und Mitmachen in der Münchner Stadtbibliothek im Motorama
DESCRIPTION:Immer freitags\,  16.00 Uhr (außer an Feiertagen) BilderBuchZe
 it: Vorlesen und Mitmachen in der Münchner Stadtbibliothek im Motorama Fü
 r Kinder von 3-6 Jahren Bei den Mitmach- und Vorlesegeschichten werden die 
 Kinder interaktiv eingebunden und nebenbei wird ganz spielerisch Sprach- un
 d erste Lesekompetenz vermittelt. Dauer: ca. 30 Minuten Eintritt frei\,  ke
 ine Anmeldung[..]\nhttps://kitz-magazin.de/Veranstaltungen/bilderbuchzeit-v
 orlesen-und-mitmachen-in-der-muenchner-stadtbibliothek-im-motorama/
URL:https://kitz-magazin.de/Veranstaltungen/bilderbuchzeit-vorlesen-und-mitmachen-in-der-muenchner-stadtbibliothek-im-motorama/
END:VEVENT
END:VCALENDAR