BEGIN:VCALENDAR
VERSION:2.0
PRODID:-//eventon.com NONSGML v1.0//EN
CALSCALE:GREGORIAN
METHOD:PUBLISH
BEGIN:VEVENT
UID:69e8b3f18149c
DTSTAMP:20260422T114137Z
DTSTART:20240903T100000Z
DTEND:20240903T123000Z
LOCATION:Bürgerhaus Unterschleißheim
SUMMARY:Sommerferienprogramm im Stadtmuseum Unterschleißheim: Farben mischen wie die alten Meister
DESCRIPTION:03.09.2024\,  10.00 bis 12.30 Uhr Sommerferienprogramm im Stadt
 museum Unterschleißheim: Farben mischen wie die alten Meister Für Kinder 
 ab 10 Jahren Malen – eine Kunst der Jahrhunderte: Egal\,  ob die Höhlenm
 alereien der Steinzeit oder die farbenprächtigen Gemälde des Mittelalters
 . Doch womit wurde in diesen Zeiten gemalt? In diesem Ferienprogramm erfahr
 en die[..]\nhttps://kitz-magazin.de/Veranstaltungen/sommerferienprogramm-im
 -stadtmuseum-unterschleissheim-farben-mischen-wie-die-alten-meister/
URL:https://kitz-magazin.de/Veranstaltungen/sommerferienprogramm-im-stadtmuseum-unterschleissheim-farben-mischen-wie-die-alten-meister/
END:VEVENT
END:VCALENDAR