BEGIN:VCALENDAR
VERSION:2.0
PRODID:-//eventon.com NONSGML v1.0//EN
CALSCALE:GREGORIAN
METHOD:PUBLISH
BEGIN:VEVENT
UID:69e62411cb3f5
DTSTAMP:20260420T130313Z
DTSTART:20241110
DTEND:20241111
LOCATION:
SUMMARY:MUSENKUSS Festival - 10 Jahre Musenkuss
DESCRIPTION:Sonntag 10.11.20224 MUSENKUSS Festival &#8211; 10 Jahre Musenku
 ss Für alle Interessierte Kultur zum Mitmachen für Klein und Groß: Anlä
 sslich von zehn Jahre Musenkuss München gibt es über die ganze Stadt vert
 eilt vielfältige Kreativangebote. Das Besondere: Überall ist freier Eintr
 itt! Eine Übersicht über die verschiedenen Programmangebote findet ihr hi
 er. Musenkuss –[..]\nhttps://kitz-magazin.de/Veranstaltungen/musenkuss-fe
 stival-10-jahre-musenkuss/
URL:https://kitz-magazin.de/Veranstaltungen/musenkuss-festival-10-jahre-musenkuss/
END:VEVENT
END:VCALENDAR