BEGIN:VCALENDAR
VERSION:2.0
PRODID:-//eventon.com NONSGML v1.0//EN
CALSCALE:GREGORIAN
METHOD:PUBLISH
BEGIN:VEVENT
UID:69e92828d7dcd
DTSTAMP:20260422T195728Z
DTSTART:20240922T133000Z
DTEND:20240922T163000Z
LOCATION:Bayerisches Nationalmuseum Prinzregentenstraße 3
SUMMARY:MPZ in Kooperation mit dem Bayerisches Nationalmuseum: Welches Musikinstrument für mein Kind?
DESCRIPTION:So\,  22.09.2024\,  13.30–16.30 Uhr Bayerisches Nationalmuseu
 m: Welches Musikinstrument für mein Kind? Für Familien mit Kindern ab 6 J
 ahren Habt ihr Lust Musik zu machen? Anhand kostbarer Stücke aus der Samml
 ung des Bayerischen Nationalmuseums werden die Musikinstrumente und ihre Sp
 ieltechnik erläutert. Schließlich könnt ihr selbst probieren\,  einigen 
 Blas- und Saiteninstrumenten Töne[..]\nhttps://kitz-magazin.de/Veranstaltu
 ngen/mpz-in-kooperation-mit-dem-bayerisches-nationalmuseum-welches-musikins
 trument-fuer-mein-kind/
URL:https://kitz-magazin.de/Veranstaltungen/mpz-in-kooperation-mit-dem-bayerisches-nationalmuseum-welches-musikinstrument-fuer-mein-kind/
END:VEVENT
END:VCALENDAR