BEGIN:VCALENDAR
VERSION:2.0
PRODID:-//eventon.com NONSGML v1.0//EN
CALSCALE:GREGORIAN
METHOD:PUBLISH
BEGIN:VEVENT
UID:69eb80703ae63
DTSTAMP:20260424T143840Z
DTSTART:20241004T133000Z
DTEND:20241004T173000Z
LOCATION:Ludwig-Thoma-Haus Augsburger Straße 23
SUMMARY:25. TheaterTage Dachau im Ludwig Thoma Haus Dachau - Vorverkaufstag
DESCRIPTION:03.– 21. November 2024 25. TheaterTage Dachau im Ludwig Thoma
  Haus Dachau Für Kinder und Erwachsene Als im Jahr 1999 der Verein Theater
 Tage Dachau e.V. gegründet wurde\,  hätte niemand gedacht\,  was für ein
 e Erfolgsgeschichte es werden würde. Seitdem durften wir ca. 125.000 Zusch
 auer bei uns begrüßen. Insgesamt 956 Vorstellungen organisierten[..]\nhtt
 ps://kitz-magazin.de/Veranstaltungen/25-theatertage-dachau-im-ludwig-thoma-
 haus-dachau-vorverkaufstag/
URL:https://kitz-magazin.de/Veranstaltungen/25-theatertage-dachau-im-ludwig-thoma-haus-dachau-vorverkaufstag/
END:VEVENT
END:VCALENDAR