BEGIN:VCALENDAR
VERSION:2.0
PRODID:-//eventon.com NONSGML v1.0//EN
CALSCALE:GREGORIAN
METHOD:PUBLISH
BEGIN:VEVENT
UID:69e8b578590bb
DTSTAMP:20260422T114808Z
DTSTART:20240921T130000Z
DTEND:20240921T150000Z
LOCATION:Botanischer Garten München-Nymphenburg Menzinger Straße 65
SUMMARY:Familienaktion im Botanischen Garten: Gewürze: Duftende Blüten und Blätter
DESCRIPTION:Samstag\,  21. September 2024\,  15.00 – 17.00 Uhr. Familiena
 ktion im Botanischen Garten: Gewürze: Duftende Blüten und Blätter Für F
 amilien mit Kindern ab 7 Jahren Im Botanischen Garten wachsen viele Gewürz
 e und Kräuter. Wie riechen sie und wofür werden sie verwendet? Nach einem
  Rundgang werden wir ein kleines Rezeptbuch gestalten. Treffpunkt[..]\nhttp
 s://kitz-magazin.de/Veranstaltungen/familienaktion-im-botanischen-garten-ge
 wuerze-duftende-blueten-und-blaetter-2/
URL:https://kitz-magazin.de/Veranstaltungen/familienaktion-im-botanischen-garten-gewuerze-duftende-blueten-und-blaetter-2/
END:VEVENT
END:VCALENDAR