BEGIN:VCALENDAR
VERSION:2.0
PRODID:-//eventon.com NONSGML v1.0//EN
CALSCALE:GREGORIAN
METHOD:PUBLISH
BEGIN:VEVENT
UID:69e8dced356b5
DTSTAMP:20260422T143629Z
DTSTART:20240927T153000Z
DTEND:20240927T170000Z
LOCATION:Haus Dorothee St.-Michael-Str. 88
SUMMARY:Kraft schöpfen in turbulenten Zeiten. Gruppenangebot für Alleinerziehende im Haus Dorothee
DESCRIPTION:Kraft schöpfen in turbulenten Zeiten. Gruppenangebot für Alle
 inerziehende im Haus Dorothee Für Alleinerziehende Gerade wieder viel los?
  Wir wollen die Abende nutzen\,  um innezuhalten\,  uns wahrzunehmen und wi
 eder an unsere Ressourcen anzuknüpfen. Mitteilen können\,  was beschäfti
 gt und vielleicht auch hinter die Dinge sehen. Wir dürfen einfach einmal d
 a sein und[..]\nhttps://kitz-magazin.de/Veranstaltungen/kraft-schoepfen-in-
 turbulenten-zeiten-gruppenangebot-fuer-alleinerziehende-im-haus-dorothee-2/
URL:https://kitz-magazin.de/Veranstaltungen/kraft-schoepfen-in-turbulenten-zeiten-gruppenangebot-fuer-alleinerziehende-im-haus-dorothee-2/
END:VEVENT
END:VCALENDAR