BEGIN:VCALENDAR
VERSION:2.0
PRODID:-//eventon.com NONSGML v1.0//EN
CALSCALE:GREGORIAN
METHOD:PUBLISH
BEGIN:VEVENT
UID:69e4ecebe1946
DTSTAMP:20260419T145539Z
DTSTART:20240929T130000Z
DTEND:20240929T150000Z
LOCATION:Kleines Theater Haar Casinostraße 6
SUMMARY:Redmanns Münchner Märchen Bühne: "Pinocchio" im Kleinen Theater Haar
DESCRIPTION:29.09.2024\,  06.10.24 und 03.11.2024\,  jeweils von 15:00 bis 
 17:00 Redmanns Münchner Märchen Bühne: &#8222;Pinocchio&#8220; im Kleine
 n Theater Haar Für Kinder ab ab 6 Jahre In diesem rasanten und besonders a
 ufwändigen Bühnenmusical findet Geppetto\,  ein alter Holzschnitzer aus I
 talien\,  einen groben Ast eines Pinienbaumes\,  welcher während eines Unw
 etters vom Blitz abgeschlagen[..]\nhttps://kitz-magazin.de/Veranstaltungen/
 redmanns-muenchner-maerchen-buehne-pinocchio-im-kleinen-theater-haar-2/
URL:https://kitz-magazin.de/Veranstaltungen/redmanns-muenchner-maerchen-buehne-pinocchio-im-kleinen-theater-haar-2/
END:VEVENT
END:VCALENDAR