BEGIN:VCALENDAR
VERSION:2.0
PRODID:-//eventon.com NONSGML v1.0//EN
CALSCALE:GREGORIAN
METHOD:PUBLISH
BEGIN:VEVENT
UID:69e8fed0de945
DTSTAMP:20260422T170104Z
DTSTART:20241104T141500Z
DTEND:20241104T160000Z
LOCATION:Schauburg München Franz-Joseph-Straße 47
SUMMARY:Zwergerl-LAB mit der Schauburg
DESCRIPTION:Zwergerl-LAB mit der Schauburg Für alle von 4 bis 6 Jahren Im 
 Zwergerl LAB suchen und entdecken wir die Vielfalt der eigenen künstlerisc
 hen Ausdrucksmöglichkeiten von Körper und Stimme über Rhythmus und Musik
 . Wir laden Kinder im Kindergartenalter zu einem tänzerischen Miteinander 
 ein\,  machen große Sprünge\,  lauschen leisen Tönen\,  rennen umeinande
 r[..]\nhttps://kitz-magazin.de/Veranstaltungen/zwergerl-lab-mit-der-schaubu
 rg-2/
URL:https://kitz-magazin.de/Veranstaltungen/zwergerl-lab-mit-der-schauburg-2/
END:VEVENT
END:VCALENDAR