BEGIN:VCALENDAR
VERSION:2.0
PRODID:-//eventon.com NONSGML v1.0//EN
CALSCALE:GREGORIAN
METHOD:PUBLISH
BEGIN:VEVENT
UID:69eb5c729c65f
DTSTAMP:20260424T120506Z
DTSTART:20241017
DTEND:20241018
LOCATION:Kleines Theater im Pförtnerhaus im Bürgerpark Oberföhring Oberföhringerstr. 156
SUMMARY:8. Münchner Papiertheaterfestival „Gänsehautgeschichten“ im Kleinen Theater im Pförtnerhaus Bürgerpark Oberföhring
DESCRIPTION:17. bis 20. Oktober 2024 8. Münchner Papiertheaterfestival „
 Gänsehautgeschichten“ im Kleinen Theater im Pförtnerhaus Bürgerpark Ob
 erföhring Für die ganze Familie An vier Tagen im Oktober präsentiert Lis
 elotte Bothe wieder die kleine Welt des Papiertheaters. Künstler aus ganz 
 Deutschland rücken diese fast vergessene Form des Theaters in den Blickpun
 kt. Unter dem[..]\nhttps://kitz-magazin.de/Veranstaltungen/8-muenchner-papi
 ertheaterfestival-gaensehautgeschichten-im-kleinen-theater-im-pfoertnerhaus
 -buergerpark-oberfoehring/
URL:https://kitz-magazin.de/Veranstaltungen/8-muenchner-papiertheaterfestival-gaensehautgeschichten-im-kleinen-theater-im-pfoertnerhaus-buergerpark-oberfoehring/
END:VEVENT
END:VCALENDAR