BEGIN:VCALENDAR
VERSION:2.0
PRODID:-//eventon.com NONSGML v1.0//EN
CALSCALE:GREGORIAN
METHOD:PUBLISH
BEGIN:VEVENT
UID:69e936d2f2b91
DTSTAMP:20260422T210002Z
DTSTART:20241019T140000Z
DTEND:20241019T180000Z
LOCATION:Pasinger Fabrik August-Exter-Str. 1
SUMMARY:Kindercafé und Holzwerkstatt. Treffpunkt für Münchner Kinder in der Pasinger Fabrik
DESCRIPTION:Mi. – Fr.\,  15.00-18.00 Uhr und Sa.\,  14.00-18.00 Uhr Kinde
 rcafé und Holzwerkstatt. Treffpunkt für Münchner Kinder in der Pasinger 
 Fabrik Für Kinder ab 6 Jahre Das Kindercafé\,  der Treffpunkt für Münch
 ner Kinder zum Treffen mit Freund*innen\,  Basteln und für kleinere Verans
 taltungen. Die Mitmachangebote sind kostenlos. Getränke und Kleinigkeiten 
 zum Essen[..]\nhttps://kitz-magazin.de/Veranstaltungen/kindercafe-und-holzw
 erkstatt-treffpunkt-fuer-muenchner-kinder-in-der-pasinger-fabrik-4/var/ri-1
 .l-L1
URL:https://kitz-magazin.de/Veranstaltungen/kindercafe-und-holzwerkstatt-treffpunkt-fuer-muenchner-kinder-in-der-pasinger-fabrik-4/var/ri-1.l-L1
END:VEVENT
END:VCALENDAR