BEGIN:VCALENDAR
VERSION:2.0
PRODID:-//eventon.com NONSGML v1.0//EN
CALSCALE:GREGORIAN
METHOD:PUBLISH
BEGIN:VEVENT
UID:69e73c4559f13
DTSTAMP:20260421T085845Z
DTSTART:20241115
DTEND:20241116
LOCATION:Internationale Jugendbibliothek Schloß Blutenburg
SUMMARY:Internationale Jugendbibliothek Schloss Blutenburg: Bundesweiter Vorlesetag im Bücherschloss
DESCRIPTION:15. November 2024\,  10.00 Uhr Internationale Jugendbibliothek 
 Schloss Blutenburg: Bundesweiter Vorlesetag im Bücherschloss Für Familien
  und alle Interessierte Anlässlich des 20. Bundesweiten Vorlesetages in De
 utschland laden wir zur Vorlesestunde ins Bücherschloss ein. Der Bundeswei
 te Vorlesetag ist eine Initiative der Stiftung Lesen\,  der Wochenzeitung D
 IE ZEIT und der Deutsche Bahn Stiftung.[..]\nhttps://kitz-magazin.de/Verans
 taltungen/internationale-jugendbibliothek-schloss-blutenburg-bundesweiter-v
 orlesetag-im-buecherschloss/
URL:https://kitz-magazin.de/Veranstaltungen/internationale-jugendbibliothek-schloss-blutenburg-bundesweiter-vorlesetag-im-buecherschloss/
END:VEVENT
END:VCALENDAR