BEGIN:VCALENDAR
VERSION:2.0
PRODID:-//eventon.com NONSGML v1.0//EN
CALSCALE:GREGORIAN
METHOD:PUBLISH
BEGIN:VEVENT
UID:69ec42c91769e
DTSTAMP:20260425T042753Z
DTSTART:20241031T080000Z
DTEND:20241031T160000Z
LOCATION:Münchner Stadtbibliothek Rosenheimer Str. 5
SUMMARY:Medien-Parcours zum Pädagogischen Medienpreis 2024 in der Münchner Stadtbibliothek im Motorama
DESCRIPTION:31.10.2024 und 06.11.24\,  jeweils von 9.00-17.00 Uhr Medien-Pa
 rcours zum Pädagogischen Medienpreis 2024 in der Münchner Stadtbibliothek
  im Motorama Für die ganze Familie Beim Medien-Mitmach-Parcours hast du di
 e Möglichkeit\,  alle Apps\,  Games und Online-Angebote auszutesten\,  die
  mit dem »Pädagogischen Medienpreis 2024« ausgezeichnet wurden. Am 30. O
 ktober wird der Medienpreis im Gasteig[..]\nhttps://kitz-magazin.de/Veranst
 altungen/medien-parcours-zum-paedagogischen-medienpreis-2024-in-der-muenchn
 er-stadtbibliothek-im-motorama/
URL:https://kitz-magazin.de/Veranstaltungen/medien-parcours-zum-paedagogischen-medienpreis-2024-in-der-muenchner-stadtbibliothek-im-motorama/
END:VEVENT
END:VCALENDAR